BEGIN:VCALENDAR
PRODID:-//Gynstart//Gynstart 2 //EN
VERSION:2.0
METHOD:PUBLISH
BEGIN:VEVENT
DTSTART;VALUE=DATE:20260828
DTEND;VALUE=DATE:20260830
LOCATION:Irsko, Dublin
TRANSP:OPAQUE
SEQUENCE:0
UID:gynstart.cz
DTSTAMP:20050715T120000
DESCRIPTION:Pořadatel: WASET\n
SUMMARY:ICOGWH 2026: 20. International Conference on Obstetrics, Gynecology and Women's Health
SUMMARY;LANGUAGE=cs:test
X-ALT-DESC;FMTTYPE=text/html:<html><body>Pořadatel: WASET\n</body></html>
LAST-MODIFIED:20260420T000000
PRIORITY:5
CLASS:PUBLIC
BEGIN:VALARM
TRIGGER:-PT1080M
ACTION:DISPLAY
DESCRIPTION:Reminder
X-MICROSOFT-CDO-ALLDAYEVENT:1
X-MICROSOFT-CDO-BUSYSTATUS:BUSY
END:VALARM
END:VEVENT
END:VCALENDAR

