BEGIN:VCALENDAR
PRODID:-//Gynstart//Gynstart 2 //EN
VERSION:2.0
METHOD:PUBLISH
BEGIN:VEVENT
DTSTART;VALUE=DATE:20260610
DTEND;VALUE=DATE:20260613
LOCATION:Ostrava, Clarion Congress hotel
TRANSP:OPAQUE
SEQUENCE:0
UID:gynstart.cz
DTSTAMP:20050715T120000
DESCRIPTION:5. ročník multioborové konference POROD. Motto letošního ročníku „THE POWER OF BIRTH“.\nPořadatel: FN Ostrava\nEmail: zelenkova@amca.cz\n
SUMMARY:Konference POROD 2026
SUMMARY;LANGUAGE=cs:test
X-ALT-DESC;FMTTYPE=text/html:<html><body>5. ročník multioborové konference POROD. Motto letošního ročníku „THE POWER OF BIRTH“.\nPořadatel: FN Ostrava\nEmail: zelenkova@amca.cz\n</body></html>
LAST-MODIFIED:20260420T000000
PRIORITY:5
CLASS:PUBLIC
BEGIN:VALARM
TRIGGER:-PT1080M
ACTION:DISPLAY
DESCRIPTION:Reminder
X-MICROSOFT-CDO-ALLDAYEVENT:1
X-MICROSOFT-CDO-BUSYSTATUS:BUSY
END:VALARM
END:VEVENT
END:VCALENDAR

