BEGIN:VCALENDAR
PRODID:-//Gynstart//Gynstart 2 //EN
VERSION:2.0
METHOD:PUBLISH
BEGIN:VEVENT
DTSTART;VALUE=DATE:20260515
DTEND;VALUE=DATE:20260516
LOCATION:Praha, ÚPMD, velká posluchárna
TRANSP:OPAQUE
SEQUENCE:0
UID:gynstart.cz
DTSTAMP:20050715T120000
DESCRIPTION:Program zde\nPořadatel: ÚPMD\nEmail: eva.kvicalova@upmd.eu\n
SUMMARY:2. Podolský workshop: reprodukční zdraví ženy v každé fázi života 
SUMMARY;LANGUAGE=cs:test
X-ALT-DESC;FMTTYPE=text/html:<html><body>Program <strong><a href="http://admin.gynstart.cz/e_images/2.%20podolsk%C3%BD%20workshop_final_PROGRAM.pdf">zde</a></strong>\nPořadatel: ÚPMD\nEmail: eva.kvicalova@upmd.eu\n</body></html>
LAST-MODIFIED:20260423T000000
PRIORITY:5
CLASS:PUBLIC
BEGIN:VALARM
TRIGGER:-PT1080M
ACTION:DISPLAY
DESCRIPTION:Reminder
X-MICROSOFT-CDO-ALLDAYEVENT:1
X-MICROSOFT-CDO-BUSYSTATUS:BUSY
END:VALARM
END:VEVENT
END:VCALENDAR

